BEGIN:VCALENDAR
VERSION:2.0
PRODID:-//Unser Grambow - wo ich zu Hause bin. - ECPv6.15.16//NONSGML v1.0//EN
CALSCALE:GREGORIAN
METHOD:PUBLISH
X-WR-CALNAME:Unser Grambow - wo ich zu Hause bin.
X-ORIGINAL-URL:https://unser-grambow.de
X-WR-CALDESC:Veranstaltungen für Unser Grambow - wo ich zu Hause bin.
REFRESH-INTERVAL;VALUE=DURATION:PT1H
X-Robots-Tag:noindex
X-PUBLISHED-TTL:PT1H
BEGIN:VTIMEZONE
TZID:Europe/Helsinki
BEGIN:DAYLIGHT
TZOFFSETFROM:+0200
TZOFFSETTO:+0300
TZNAME:EEST
DTSTART:20250330T010000
END:DAYLIGHT
BEGIN:STANDARD
TZOFFSETFROM:+0300
TZOFFSETTO:+0200
TZNAME:EET
DTSTART:20251026T010000
END:STANDARD
BEGIN:DAYLIGHT
TZOFFSETFROM:+0200
TZOFFSETTO:+0300
TZNAME:EEST
DTSTART:20260329T010000
END:DAYLIGHT
BEGIN:STANDARD
TZOFFSETFROM:+0300
TZOFFSETTO:+0200
TZNAME:EET
DTSTART:20261025T010000
END:STANDARD
BEGIN:DAYLIGHT
TZOFFSETFROM:+0200
TZOFFSETTO:+0300
TZNAME:EEST
DTSTART:20270328T010000
END:DAYLIGHT
BEGIN:STANDARD
TZOFFSETFROM:+0300
TZOFFSETTO:+0200
TZNAME:EET
DTSTART:20271031T010000
END:STANDARD
END:VTIMEZONE
BEGIN:VEVENT
DTSTART;TZID=Europe/Helsinki:20260425T100000
DTEND;TZID=Europe/Helsinki:20260425T120000
DTSTAMP:20260424T154556
CREATED:20260305T081213Z
LAST-MODIFIED:20260305T082846Z
UID:11352-1777111200-1777118400@unser-grambow.de
SUMMARY:Grünschnittannahme
DESCRIPTION:
URL:https://unser-grambow.de/event/gruenschnittannahme/
END:VEVENT
BEGIN:VEVENT
DTSTART;TZID=Europe/Helsinki:20260518T150000
DTEND;TZID=Europe/Helsinki:20260518T170000
DTSTAMP:20260424T154556
CREATED:20260305T081237Z
LAST-MODIFIED:20260305T082924Z
UID:11354-1779116400-1779123600@unser-grambow.de
SUMMARY:Grünschnittannahme
DESCRIPTION:
URL:https://unser-grambow.de/event/gruenschnittannahme-2/
END:VEVENT
BEGIN:VEVENT
DTSTART;TZID=Europe/Helsinki:20260530T090000
DTEND;TZID=Europe/Helsinki:20260530T150000
DTSTAMP:20260424T154556
CREATED:20251229T195310Z
LAST-MODIFIED:20251229T195310Z
UID:11263-1780131600-1780153200@unser-grambow.de
SUMMARY:öffentliche Moorwanderung
DESCRIPTION:
URL:https://unser-grambow.de/event/oeffentliche-moorwanderung/
END:VEVENT
BEGIN:VEVENT
DTSTART;TZID=Europe/Helsinki:20260530T100000
DTEND;TZID=Europe/Helsinki:20260530T120000
DTSTAMP:20260424T154556
CREATED:20260305T081257Z
LAST-MODIFIED:20260305T083025Z
UID:11356-1780135200-1780142400@unser-grambow.de
SUMMARY:Grünschnittannahme
DESCRIPTION:
URL:https://unser-grambow.de/event/gruenschnittannahme-3/
END:VEVENT
BEGIN:VEVENT
DTSTART;TZID=Europe/Helsinki:20260531T080000
DTEND;TZID=Europe/Helsinki:20260531T150000
DTSTAMP:20260424T154556
CREATED:20251229T195347Z
LAST-MODIFIED:20251229T195347Z
UID:11265-1780214400-1780239600@unser-grambow.de
SUMMARY:öffentliche Moorwanderung
DESCRIPTION:
URL:https://unser-grambow.de/event/oeffentliche-moorwanderung-2/
END:VEVENT
BEGIN:VEVENT
DTSTART;TZID=Europe/Helsinki:20260620T100000
DTEND;TZID=Europe/Helsinki:20260620T120000
DTSTAMP:20260424T154556
CREATED:20260305T081318Z
LAST-MODIFIED:20260305T083129Z
UID:11358-1781949600-1781956800@unser-grambow.de
SUMMARY:Grünschnittannahme
DESCRIPTION:
URL:https://unser-grambow.de/event/gruenschnittannahme-4/
END:VEVENT
BEGIN:VEVENT
DTSTART;TZID=Europe/Helsinki:20260622T150000
DTEND;TZID=Europe/Helsinki:20260622T170000
DTSTAMP:20260424T154556
CREATED:20260305T081350Z
LAST-MODIFIED:20260305T083243Z
UID:11360-1782140400-1782147600@unser-grambow.de
SUMMARY:Grünschnittannahme
DESCRIPTION:
URL:https://unser-grambow.de/event/gruenschnittannahme-5/
END:VEVENT
BEGIN:VEVENT
DTSTART;TZID=Europe/Helsinki:20260720T150000
DTEND;TZID=Europe/Helsinki:20260720T170000
DTSTAMP:20260424T154556
CREATED:20260305T081407Z
LAST-MODIFIED:20260305T083325Z
UID:11362-1784559600-1784566800@unser-grambow.de
SUMMARY:Grünschnittannahme
DESCRIPTION:
URL:https://unser-grambow.de/event/gruenschnittannahme-6/
END:VEVENT
BEGIN:VEVENT
DTSTART;TZID=Europe/Helsinki:20260725T100000
DTEND;TZID=Europe/Helsinki:20260725T120000
DTSTAMP:20260424T154556
CREATED:20260305T081433Z
LAST-MODIFIED:20260305T083343Z
UID:11364-1784973600-1784980800@unser-grambow.de
SUMMARY:Grünschnittannahme
DESCRIPTION:
URL:https://unser-grambow.de/event/gruenschnittannahme-7/
END:VEVENT
BEGIN:VEVENT
DTSTART;TZID=Europe/Helsinki:20260824T150000
DTEND;TZID=Europe/Helsinki:20260824T170000
DTSTAMP:20260424T154556
CREATED:20260305T081454Z
LAST-MODIFIED:20260305T083415Z
UID:11366-1787583600-1787590800@unser-grambow.de
SUMMARY:Grünschnittannahme
DESCRIPTION:
URL:https://unser-grambow.de/event/gruenschnittannahme-8/
END:VEVENT
BEGIN:VEVENT
DTSTART;TZID=Europe/Helsinki:20260829T100000
DTEND;TZID=Europe/Helsinki:20260829T120000
DTSTAMP:20260424T154556
CREATED:20260305T081513Z
LAST-MODIFIED:20260305T083431Z
UID:11368-1787997600-1788004800@unser-grambow.de
SUMMARY:Grünschnittannahme
DESCRIPTION:
URL:https://unser-grambow.de/event/gruenschnittannahme-9/
END:VEVENT
BEGIN:VEVENT
DTSTART;TZID=Europe/Helsinki:20260921T150000
DTEND;TZID=Europe/Helsinki:20260921T170000
DTSTAMP:20260424T154556
CREATED:20260305T081537Z
LAST-MODIFIED:20260305T083508Z
UID:11370-1790002800-1790010000@unser-grambow.de
SUMMARY:Grünschnittannahme
DESCRIPTION:
URL:https://unser-grambow.de/event/gruenschnittannahme-10/
END:VEVENT
BEGIN:VEVENT
DTSTART;TZID=Europe/Helsinki:20260926T100000
DTEND;TZID=Europe/Helsinki:20260926T120000
DTSTAMP:20260424T154556
CREATED:20260305T081554Z
LAST-MODIFIED:20260305T083523Z
UID:11372-1790416800-1790424000@unser-grambow.de
SUMMARY:Grünschnittannahme
DESCRIPTION:
URL:https://unser-grambow.de/event/gruenschnittannahme-11/
END:VEVENT
BEGIN:VEVENT
DTSTART;TZID=Europe/Helsinki:20261010T100000
DTEND;TZID=Europe/Helsinki:20261010T120000
DTSTAMP:20260424T154556
CREATED:20260305T081613Z
LAST-MODIFIED:20260305T083557Z
UID:11374-1791626400-1791633600@unser-grambow.de
SUMMARY:Grünschnittannahme
DESCRIPTION:
URL:https://unser-grambow.de/event/gruenschnittannahme-12/
END:VEVENT
BEGIN:VEVENT
DTSTART;TZID=Europe/Helsinki:20261024T100000
DTEND;TZID=Europe/Helsinki:20261024T120000
DTSTAMP:20260424T154556
CREATED:20260305T081634Z
LAST-MODIFIED:20260305T083613Z
UID:11376-1792836000-1792843200@unser-grambow.de
SUMMARY:Grünschnittannahme
DESCRIPTION:
URL:https://unser-grambow.de/event/gruenschnittannahme-13/
END:VEVENT
BEGIN:VEVENT
DTSTART;TZID=Europe/Helsinki:20261114T100000
DTEND;TZID=Europe/Helsinki:20261114T120000
DTSTAMP:20260424T154556
CREATED:20260305T081656Z
LAST-MODIFIED:20260305T081917Z
UID:11378-1794650400-1794657600@unser-grambow.de
SUMMARY:Grünschnittannahme
DESCRIPTION:
URL:https://unser-grambow.de/event/gruenschnittannahme-14/
END:VEVENT
BEGIN:VEVENT
DTSTART;TZID=Europe/Helsinki:20261128T100000
DTEND;TZID=Europe/Helsinki:20261128T120000
DTSTAMP:20260424T154556
CREATED:20260305T081713Z
LAST-MODIFIED:20260305T081839Z
UID:11380-1795860000-1795867200@unser-grambow.de
SUMMARY:Grünschnittannahme
DESCRIPTION:
URL:https://unser-grambow.de/event/gruenschnittannahme-15/
END:VEVENT
BEGIN:VEVENT
DTSTART;TZID=Europe/Helsinki:20261212T100000
DTEND;TZID=Europe/Helsinki:20261212T120000
DTSTAMP:20260424T154556
CREATED:20260305T081736Z
LAST-MODIFIED:20260305T081800Z
UID:11382-1797069600-1797076800@unser-grambow.de
SUMMARY:Grünschnittannahme
DESCRIPTION:
URL:https://unser-grambow.de/event/gruenschnittannahme-16/
END:VEVENT
END:VCALENDAR